BEGIN:VCALENDAR
VERSION:2.0
PRODID:-//Plone.org//NONSGML plone.app.event//EN
X-WR-TIMEZONE:America/Maceio
BEGIN:VEVENT
SUMMARY:I Ciclo de Palestras - Tecnologia Verde
DTSTART;TZID=America/Maceio:20180306T090000
DTEND;TZID=America/Maceio:20180307T150000
DTSTAMP:20260420T162313Z
UID:febf6d07d74d4378b8ff9fc187cb7064@arapiraca.ufal.br
CONTACT:https://doity.com.br/i-ciclo-de-palestras--tecnologia-verde/
CREATED:20180308T142821Z
LAST-MODIFIED:20210323T140322Z
LOCATION:UFAL - ANEXO 1
URL:https://arapiraca.ufal.br/graduacao/sistemas-de-informacao/institucion
 al/eventos/i-ciclo-de-palestras-tecnologia-verde
END:VEVENT
BEGIN:VTIMEZONE
TZID:America/Maceio
X-LIC-LOCATION:America/Maceio
BEGIN:STANDARD
DTSTART:20020216T230000
TZNAME:-03
TZOFFSETFROM:-0200
TZOFFSETTO:-0300
END:STANDARD
END:VTIMEZONE
END:VCALENDAR
