BEGIN:VCALENDAR
VERSION:2.0
PRODID:-//Plone.org//NONSGML plone.app.event//EN
X-WR-TIMEZONE:America/Maceio
BEGIN:VEVENT
SUMMARY:Professor do Curso de Enfermagem toma posse da Academia Palmeirens
 e de Letras\, Ciências e Artes
DTSTART;TZID=America/Maceio:20210920T193000
DTEND;TZID=America/Maceio:20210920T203000
DTSTAMP:20260420T154039Z
UID:ccb128a7e17443ba8453fa0b4edf3704@arapiraca.ufal.br
CONTACT:https://www.youtube.com/channel/UC2ejPCYnYpn87zGOpL4ISkQ
CREATED:20210917T133146Z
DESCRIPTION:Convite para V solenidade de posse acadêmica e outorga de tí
 tulo da Academia Palmeirense de Letras\, Ciências e Artes.
LAST-MODIFIED:20210917T135532Z
URL:https://arapiraca.ufal.br/graduacao/enfermagem/institucional/informes/
 professor-do-curso-de-enfermagem-toma-posse-da-academia-palmeirense-de-let
 ras-ciencia-e-artes
END:VEVENT
BEGIN:VTIMEZONE
TZID:America/Maceio
X-LIC-LOCATION:America/Maceio
BEGIN:STANDARD
DTSTART:20020216T230000
TZNAME:-03
TZOFFSETFROM:-0200
TZOFFSETTO:-0300
END:STANDARD
END:VTIMEZONE
END:VCALENDAR
